BEGIN:VCALENDAR
METHOD:PUBLISH
VERSION:2.0
CALSCALE:GREGORIAN
PRODID:-//NONSGML WPForms//NONSGML Sugar Calendar Feeds v3.10.0//EN
X-WR-CALNAME:Walking Club (Little Pumpkins Halloween Party) - Jojo's Cof
 fee Issaquah
X-WR-CALDESC:Willa Wellness
X-WR-TIMEZONE:America/Los_Angeles
BEGIN:VTIMEZONE
TZID:America/Los_Angeles
BEGIN:DAYLIGHT
TZOFFSETFROM:-0700
TZOFFSETTO:-0700
DTSTART:20250502T010000
TZNAME:PDT
END:DAYLIGHT
END:VTIMEZONE
BEGIN:VTIMEZONE
TZID:America/Los_Angeles
BEGIN:DAYLIGHT
TZOFFSETFROM:-0700
TZOFFSETTO:-0700
DTSTART:20250502T010000
TZNAME:PDT
END:DAYLIGHT
END:VTIMEZONE
BEGIN:VEVENT
SUMMARY:Walking Club (Little Pumpkins Halloween Party) - Jojo's Coffee I
 ssaquah
DESCRIPTION:Join us for Walking Club a gathering for families. Our walki
 ng spot is at Jojo's Coffee in Issaquah on Front St. RSVP required via S
 quare booking.\n\nThis gathering is designed to bring us together with o
 r without our children and ignite some connection during our parenting j
 ourney. We were never meant to do this job of raising children alone! Mo
 thers\, fathers\, caregivers of all types are welcome. Our walking loop 
 is about 2 miles long\, we stop when others need to and it is stroller f
 riendly on a paved trail\, The Rainier Trail to visit our local troll Ja
 kob Two Trees in Issaquah. Please message us with questions via Square b
 ooking or email us support@willawell.com.
URL;VALUE=URI:https://www.willawell.com/events/walking-club-jojos-coffee
 -issaquah/
UID:urn:uuid:9191ffc5-65a3-4dbb-8b88-e672c13d4585
STATUS:CONFIRMED
ORGANIZER:
DTSTAMP:20260421T081823Z
DTSTART;TZID=America/Los_Angeles:20251031T130000
DTEND;TZID=America/Los_Angeles:20251031T143000
LOCATION:98 Front St N
END:VEVENT
END:VCALENDAR